Workbook

Sheet รายงานจำนวนห้อง 10 มิ.ย.68
A1: จำนวนนักเรียนโรงเรียนบ้านต้นยวน
A2: ภาคเรียนที่ 1 ประจำปีการศึกษา 2568
A3: ข้อมูล ณ วันที่ 10 มิถุนายน 2568
A4: ชั้น | B4: จำนวนนักเรียน | D4: รวม | E4: จำนวนห้อง
B5: ชาย | C5: หญิง
A6: อนุบาล 2 | B6: =อ.2!C34 -> 9 | C6: =อ.2!C35 -> 15 | D6: =SUM(B6:C6) -> 24 | E6: 1
A7: อนุบาล 3 | B7: =อ.3!C43 -> 14 | C7: =อ.3!C44 -> 20 | D7: =SUM(B7:C7) -> 34 | E7: 1
A8: รวมอนุบาล | B8: =SUM(B6:B7) -> 23 | C8: =SUM(C6:C7) -> 35 | D8: =SUM(B8:C8) -> 58 | E8: =SUM(E6:E7) -> 2
A9: ประถมศึกษาปีที่ 1 | B9: =ป.1!C41 -> 19 | C9: =ป.1!C42 -> 14 | D9: =SUM(B9:C9) -> 33 | E9: 1
A10: ประถมศึกษาปีที่ 2 | B10: =ป.2!C34 -> 15 | C10: =ป.2!C35 -> 12 | D10: =SUM(B10:C10) -> 27 | E10: 1
A11: ประถมศึกษาปีที่ 3/1 | B11: ='ป.3.1 '!C30 -> 10 | C11: ='ป.3.1 '!C31 -> 12 | D11: =SUM(B11:C11) -> 22 | E11: 1
A12: ประถมศึกษาปีที่ 3/2 | B12: ='ป.3.2'!C28 -> 8 | C12: ='ป.3.2'!C29 -> 13 | D12: =SUM(B12:C12) -> 21 | E12: 1
A13: ประถมศึกษาปีที่ 4 | B13: =ป.4!C40 -> 16 | C13: =ป.4!C41 -> 16 | D13: =SUM(B13:C13) -> 32 | E13: 1
A14: ประถมศึกษาปีที่ 5 | B14: =ป.5!C36 -> 19 | C14: =ป.5!C37 -> 10 | D14: =SUM(B14:C14) -> 29 | E14: 1
A15: ประถมศึกษาปีที่ 6/1 | B15: ='ป.6.1 '!C30 -> 12 | C15: ='ป.6.1 '!C31 -> 10 | D15: =SUM(B15:C15) -> 22 | E15: 1
A16: ประถมศึกษาปีที่ 6/2 | B16: ='ป.6.2'!C28 -> 11 | C16: ='ป.6.2'!C29 -> 9 | D16: =SUM(B16:C16) -> 20 | E16: 1
A17: รวมประถมศึกษา | B17: =SUM(B9:B16) -> 110 | C17: =SUM(C9:C16) -> 96 | D17: =SUM(D9:D16) -> 206 | E17: =SUM(E9:E16) -> 8
A18: รวม | B18: =B8+B17 -> 133 | C18: =C8+C17 -> 131 | D18: =D17+D8 -> 264 | E18: =E8+E17 -> 10

Sheet อ.2
A1: =อ.3!A1 -> บัญชีรายชื่อนักเรียนโรงเรียนบ้านต้นยวน ภาคเรียนที่ 1 ประจำปีการศึกษา 2568
A2: ='รายงานจำนวนห้อง 10 มิ.ย.68'!A6 -> อนุบาล 2
A3: ='รายงานจำนวนห้อง 10 มิ.ย.68'!A3:E3 -> ข้อมูล ณ วันที่ 10 มิถุนายน 2568
A4: ลำดับที่ | B4: เลขประจำตัว | C4: เลขประจำตัวประชาชน | D4: คำนำหน้า | E4: ชื่อ | F4: สกุล | G4: วันเดือนปีเกิด | H4: หมายเหตุ
B5: นักเรียน
A6: 1 | B6: 2342 | D6: เด็กชาย | E6: เกียรติภูมิน | F6: แก้วก่า
A7: 2 | B7: 2343 | D7: เด็กชาย | E7: ศรัณพร | F7: ชิตแก้ว
A8: 3 | B8: 2344 | D8: เด็กชาย | E8: อิศรีย์ | F8: บุญกาญต์
A9: 4 | B9: 2345 | D9: เด็กชาย | E9: สุพศิน | F9: จันทร์อินแก้ว
A10: 5 | B10: 2346 | D10: เด็กชาย | E10: ศิรวิชญ์ | F10: ขนอม
A11: 6 | B11: 2347 | D11: เด็กชาย | E11: ธนกร | F11: เต็มบางงอน
A12: 7 | B12: 2348 | D12: เด็กชาย | E12: จักรพรรดิ | F12: บุญฤทธิ์
A13: 8 | B13: 2349 | D13: เด็กชาย | E13: ณัฐกฤต | F13: วิลุน
A14: 9 | B14: 2350 | D14: เด็กชาย | E14: จิรพัฒน์ | F14: เยี่ยงกลาง
A15: 10 | B15: 2351 | D15: เด็กหญิง | E15: กมลชนก | F15: หวังจุลกลาง
A16: 11 | B16: 2352 | D16: เด็กหญิง | E16: ปวรรัตน์ | F16: แสงสวัสดิ์
A17: 12 | B17: 2353 | D17: เด็กหญิง | E17: กวินธิดา | F17: วงษ์สินธุ์
... A29: 24 | B29: 2365 | D29: เด็กหญิง | E29: ณัฐธิดา | F29: แก้วสิทธิ์
I31: =D31&E31&" "&F31
B34: ชาย | C34: =COUNTIF(D6:D29,D6) -> 9
B35: หญิง | C35: =COUNTIF(D6:D29,D24) -> 15
B36: รวม | C36: =SUM(C34:C35) -> 24

Sheet อ.3
A1: บัญชีรายชื่อนักเรียนโรงเรียนบ้านต้นยวน ภาคเรียนที่ 1 ประจำปีการศึกษา 2568
A2: ='รายงานจำนวนห้อง 10 มิ.ย.68'!A7 -> อนุบาล 3
A3: ='รายงานจำนวนห้อง 10 มิ.ย.68'!A3:E3 -> ข้อมูล ณ วันที่ 10 มิถุนายน 2568
A4: ลำดับที่ | B4: เลขประจำตัว | C4: เลขประจำตัวประชาชน | D4: คำนำหน้า | E4: ชื่อ | F4: สกุล | G4: วันเดือนปีเกิด | H4: หมายเหตุ
B5: นักเรียน
A6: 1 | B6: 2296 | D6: เด็กชาย | E6: กฤตวรรณ | F6: เกษรสิทธิ์
A7: 2 | B7: 2297 | D7: เด็กชาย | E7: สุภกฤต | F7: ชูรัตน์
A8: 3 | B8: 2298 | D8: เด็กชาย | E8: ศรัณวุฒิ | F8: คงแก้ว
A9: 4 | B9: 2299 | D9: เด็กชาย | E9: วีรภัทร | F9: ดอนลาดลี
A10: 5 | B10: 2300 | D10: เด็กชาย | E10: วรภัทร | F10: ไกรแก้ว
A11: 6 | B11: 2301 | D11: เด็กชาย | E11: ชนาภัทร | F11: นาคบำรุง
A12: 7 | B12: 2302 | D12: เด็กชาย | E12: อภิรักษ์ | F12: ดิษฐโรจน์
A13: 8 | B13: 2303 | D13: เด็กชาย | E13: ผดุงเดช | F13: มีทับ
A14: 9 | B14: 2304 | D14: เด็กชาย | E14: ผดุงศักดิ์ | F14: มีทับ
A15: 10 | B15: 2305 | D15: เด็กหญิง | E15: สุกัญญา | F15: แสงสวัสดิ์
A16: 11 | B16: 2306 | D16: เด็กหญิง | E16: กัญญาวีร์ | F16: สุวรรณเสน
A17: 12 | B17: 2307 | D17: เด็กหญิง | E17: ญาณิศา | F17: ปานโบ
... A39: 34 | B39: 2341 | D39: เด็กหญิง | E39: การะเกด | F39: ชัยยศ
B43: ชาย | C43: =COUNTIF(D6:D40,D6) -> 14
B44: หญิง | C44: =COUNTIF(D6:D40,D15) -> 20
B45: รวม | C45: =SUM(C43:C44) -> 34

Sheet ป.1
A1: =อ.3!A1 -> บัญชีรายชื่อนักเรียนโรงเรียนบ้านต้นยวน ภาคเรียนที่ 1 ประจำปีการศึกษา 2568
A2: ='รายงานจำนวนห้อง 10 มิ.ย.68'!A9 -> ประถมศึกษาปีที่ 1
A3: ='รายงานจำนวนห้อง 10 มิ.ย.68'!A3:E3 -> ข้อมูล ณ วันที่ 10 มิถุนายน 2568
A4: ลำดับที่ | B4: เลขประจำตัว | C4: เลขประจำตัวประชาชน | D4: คำนำหน้า | E4: ชื่อ | F4: สกุล | G4: วันเดือนปีเกิด | H4: หมายเหตุ
B5: นักเรียน
A6: 1 | B6: 2261 | D6: เด็กชาย | E6: ณฤทธิ์ | F6: ปล้องนิราศ
A7: 2 | B7: 2262 | D7: เด็กชาย | E7: ศิริพงศ์ | F7: พูนเกิด
A8: 3 | B8: 2263 | D8: เด็กชาย | E8: ธนากร | F8: นาคแก้ว
A9: 4 | B9: 2264 | D9: เด็กชาย | E9: ศุภณัฐ | F9: สุทธิราช
A10: 5 | B10: 2265 | D10: เด็กชาย | E10: ศิรวิชญ์ | F10: อินทร์ทอง
A11: 6 | B11: 2266 | D11: เด็กชาย | E11: จิรวัฒน์ | F11: มนทา
A12: 7 | B12: 2267 | D12: เด็กหญิง | E12: ชนิสรา | F12: พงศ์เตรียง
A13: 8 | B13: 2268 | D13: เด็กหญิง | E13: กุลภัสสร์ | F13: เกตุขาว
A14: 9 | B14: 2269 | D14: เด็กหญิง | E14: ภัทนินลิตา | F14: แก้วสิทธิ์
A15: 10 | B15: 2270 | D15: เด็กหญิง | E15: ฉันทนา | F15: ปานสุพรรณ
A16: 11 | B16: 2271 | D16: เด็กชาย | E16: ณัฐวรรธน์ | F16: รอดแก้ว
A17: 12 | B17: 2272 | D17: เด็กหญิง | E17: จุฑารัตน์ | F17: สมบัติทอง
... A38: 33 | B38: 2339 | D38: เด็กชาย | E38: อานนท์ | F38: กุดแถลง
A39: 34 | D39: ด.ช. | E39: โกโก้ | F39: พม่า
B41: ชาย | C41: =COUNTIF(D6:D39,D6) -> 19
B42: หญิง | C42: =COUNTIF(D6:D39,D12) -> 14
B43: รวม | C43: =SUM(C41:C42) -> 33

Sheet ป.2
A1: =อ.3!A1 -> บัญชีรายชื่อนักเรียนโรงเรียนบ้านต้นยวน ภาคเรียนที่ 1 ประจำปีการศึกษา 2568
A2: ='รายงานจำนวนห้อง 10 มิ.ย.68'!A10 -> ประถมศึกษาปีที่ 2
A3: ='รายงานจำนวนห้อง 10 มิ.ย.68'!A3:E3 -> ข้อมูล ณ วันที่ 10 มิถุนายน 2568
A4: ลำดับที่ | B4: เลขประจำตัว | C4: เลขประจำตัวประชาชน | D4: คำนำหน้า | E4: ชื่อ | F4: สกุล | G4: วันเดือนปีเกิด | H4: หมายเหตุ
B5: นักเรียน
A6: 1 | B6: 2184 | D6: เด็กชาย | E6: ชัยภัทร | F6: จันทร์เมืองไทย
A7: 2 | B7: 2236 | D7: เด็กหญิง | E7: พรพรรณ | F7: พานทอง
A8: 3 | B8: 2214 | D8: เด็กชาย | E8: ภูเบศ | F8: นาคแก้ว
A9: 4 | B9: 2215 | D9: เด็กชาย | E9: ยุทธิชัย | F9: พรมกุณา
A10: 5 | B10: 2218 | D10: เด็กชาย | E10: เทวกฤต | F10: ชูมาก
A11: 6 | B11: 2219 | D11: เด็กชาย | E11: กรภัทร์ | F11: พระจำรงค์
A12: 7 | B12: 2220 | D12: เด็กหญิง | E12: จิรพร | F12: ประวัติ
A13: 8 | B13: 2225 | D13: เด็กหญิง | E13: ธิดารัตน์ | F13: แป้นดำเนิน
A14: 9 | B14: 2227 | D14: เด็กหญิง | E14: พัณณิตา | F14: ชูเพชร
A15: 10 | B15: 2228 | D15: เด็กหญิง | E15: ศศิกานต์ | F15: พงศ์สุวรรณ
A16: 11 | B16: 2229 | D16: เด็กชาย | E16: ธีรวิชญ์ | F16: ปูหู
A17: 12 | B17: 2246 | D17: เด็กหญิง | E17: ฐิติกานต์ | F17: ดำแดง
... A32: 27 | B32: 2332 | D32: เด็กชาย | E32: เตเต้ | F32: พม่า
B34: ชาย | C34: =COUNTIF(D6:D32,D6) -> 15
B35: หญิง | C35: =COUNTIF(D6:D32,D7) -> 12
B36: รวม | C36: =SUM(C34:C35) -> 27

Sheet ป.3.1 
A1: =อ.3!A1 -> บัญชีรายชื่อนักเรียนโรงเรียนบ้านต้นยวน ภาคเรียนที่ 1 ประจำปีการศึกษา 2568
A2: ='รายงานจำนวนห้อง 10 มิ.ย.68'!A11 -> ประถมศึกษาปีที่ 3/1
A3: ='รายงานจำนวนห้อง 10 มิ.ย.68'!A3:E3 -> ข้อมูล ณ วันที่ 10 มิถุนายน 2568
A4: ลำดับที่ | B4: เลขประจำตัว | C4: เลขประจำตัวประชาชน | D4: คำนำหน้า | E4: ชื่อ | F4: สกุล | G4: วันเดือนปีเกิด | H4: หมายเหตุ
B5: นักเรียน
A6: 1 | B6: 2101 | D6: เด็กชาย | E6: อิศรา | F6: โกวิทยา
A7: 2 | B7: 2204 | D7: เด็กชาย | E7: โชติวัฒน์ | F7: พรหมรักษ์
A8: 3 | B8: 2155 | D8: เด็กชาย | E8: พลวัต | F8: เพชรเศษ
A9: 4 | B9: 2157 | D9: เด็กชาย | E9: วีรณัฐ | F9: หนูเกื้อ
A10: 5 | B10: 2159 | D10: เด็กชาย | E10: พัชรพล | F10: เพชรสุทธิ์
A11: 6 | B11: 2161 | D11: เด็กชาย | E11: อภิวิชญ์ | F11: อ้นชู
A12: 7 | B12: 2163 | D12: เด็กชาย | E12: จตุพักตร์ | F12: แก้วสิทธิ์
A13: 8 | B13: 2168 | D13: เด็กหญิง | E13: กชมน | F13: มากชุม
A14: 9 | B14: 2170 | D14: เด็กหญิง | E14: ธัญชนก | F14: เกษรสิทธิ์
A15: 10 | B15: 2172 | D15: เด็กหญิง | E15: อนงค์นาถ | F15: ชูเชิด
A16: 11 | B16: 2174 | D16: เด็กหญิง | E16: กัลย์สุดา | F16: นิลเกษร
A17: 12 | B17: 2176 | D17: เด็กหญิง | E17: ภาวินี | F17: จวบยศ
... A27: 22 | B27: 2238 | D27: เด็กชาย | E27: เตชธรรม | F27: แซ่กั๊ว
B30: ชาย | C30: =COUNTIF(D6:D27,D6) -> 10
B31: หญิง | C31: =COUNTIF(D6:D27,D13) -> 12
B32: รวม | C32: =SUM(C30:C31) -> 22

Sheet ป.3.2
A1: =อ.3!A1 -> บัญชีรายชื่อนักเรียนโรงเรียนบ้านต้นยวน ภาคเรียนที่ 1 ประจำปีการศึกษา 2568
A2: ='รายงานจำนวนห้อง 10 มิ.ย.68'!A12 -> ประถมศึกษาปีที่ 3/2
A3: ='รายงานจำนวนห้อง 10 มิ.ย.68'!A3:E3 -> ข้อมูล ณ วันที่ 10 มิถุนายน 2568
A4: ลำดับที่ | B4: เลขประจำตัว | C4: เลขประจำตัวประชาชน | D4: คำนำหน้า | E4: ชื่อ | F4: สกุล | G4: วันเดือนปีเกิด | H4: หมายเหตุ
B5: นักเรียน
A6: 1 | B6: 2114 | D6: เด็กชาย | E6: พุทธิภัทร | F6: จิตราภิรมย์
A7: 2 | B7: 2156 | D7: เด็กชาย | E7: ภาคิน | F7: บัวจันทร์
A8: 3 | B8: 2158 | D8: เด็กชาย | E8: ธนดล | F8: อิ่มใจดี
A9: 4 | B9: 2160 | D9: เด็กชาย | E9: นพดล | F9: คงแก้ว
A10: 5 | B10: 2162 | D10: เด็กชาย | E10: กรวิทย์ | F10: โตชะนก
A11: 6 | B11: 2169 | D11: เด็กหญิง | E11: กนกวรรณ | F11: มาศทอง
A12: 7 | B12: 2171 | D12: เด็กหญิง | E12: จันทร์จิรา | F12: เดชพิชัย
A13: 8 | B13: 2173 | D13: เด็กหญิง | E13: นลัทพร | F13: แซ่อึ้ง
A14: 9 | B14: 2175 | D14: เด็กหญิง | E14: เนตรนภา | F14: ชำนินวล
A15: 10 | B15: 2177 | D15: เด็กหญิง | E15: ปริยาภัทร | F15: รักษาพล
A16: 11 | B16: 2179 | D16: เด็กหญิง | E16: กัญญาภัทร | F16: แจ่มกมล
A17: 12 | B17: 2180 | D17: เด็กหญิง | E17: เขมิกา | F17: หีตช่วย
... A26: 21 | B26: 2211 | D26: เด็กหญิง | E26: กรรณิการ์ | F26: แสงสวัสดิ์
B28: ชาย | C28: =COUNTIF(D6:D26,D6) -> 8
B29: หญิง | C29: =COUNTIF(D6:D26,D11) -> 13
B30: รวม | C30: =SUM(C28:C29) -> 21

Sheet ป.4
A1: =อ.3!A1 -> บัญชีรายชื่อนักเรียนโรงเรียนบ้านต้นยวน ภาคเรียนที่ 1 ประจำปีการศึกษา 2568
A2: ='รายงานจำนวนห้อง 10 มิ.ย.68'!A13 -> ประถมศึกษาปีที่ 4
A3: ='รายงานจำนวนห้อง 10 มิ.ย.68'!A3:E3 -> ข้อมูล ณ วันที่ 10 มิถุนายน 2568
A4: ลำดับที่ | B4: เลขประจำตัว | C4: เลขประจำตัวประชาชน | D4: คำนำหน้า | E4: ชื่อ | F4: สกุล | G4: วันเดือนปีเกิด | H4: หมายเหตุ
B5: นักเรียน
A6: 1 | B6: 2095 | D6: เด็กชาย | E6: ภูรินท์ | F6: ใจดี
A7: 2 | B7: 2096 | D7: เด็กชาย | E7: กฤษติภัทร | F7: บุญฤทธิ์
A8: 3 | B8: 2097 | D8: เด็กชาย | E8: ธีรภัทร | F8: อิ่มใจดี
A9: 4 | B9: 2098 | D9: เด็กชาย | E9: ภาคิน | F9: เอกแก้ว
A10: 5 | B10: 2100 | D10: เด็กชาย | E10: นพกร | F10: สงเกิด
A11: 6 | B11: 2103 | D11: เด็กชาย | E11: ธัญเทพ | F11: บุญฤทธิ์
A12: 7 | B12: 2106 | D12: เด็กหญิง | E12: เขมจิรา | F12: บุญฤทธิ์
A13: 8 | B13: 2107 | D13: เด็กหญิง | E13: พิชนิดา | F13: พุฒทอง
A14: 9 | B14: 2110 | D14: เด็กหญิง | E14: บัณฑิตา | F14: ชัยขัน
A15: 10 | B15: 2112 | D15: เด็กหญิง | E15: นันท์นลิน | F15: เกษราพงษ์
A16: 11 | B16: 2113 | D16: เด็กหญิง | E16: ดารินทร์ | F16: ฤทธิกุล
A17: 12 | B17: 2134 | D17: เด็กหญิง | E17: สุวีณา | F17: ชนะพจน์
... A35: 30 | B35: 2288 | D35: เด็กชาย | E35: สุกฤต | F35: บุญชู
A36: 31 | B36: 2335 | D36: เด็กชาย | E36: อ่าวไทย | F36: บุญโอภาส
A37: 32 | B37: 2131 | D37: เด็กหญิง | E37: มนัสนันท์ | F37: พูนสง
B40: ชาย | C40: =COUNTIF(D6:D38,D6) -> 16
B41: หญิง | C41: =COUNTIF(D6:D38,D12) -> 16
B42: รวม | C42: =SUM(C40:C41) -> 32

Sheet ป.5
A1: =อ.3!A1 -> บัญชีรายชื่อนักเรียนโรงเรียนบ้านต้นยวน ภาคเรียนที่ 1 ประจำปีการศึกษา 2568
A2: ='รายงานจำนวนห้อง 10 มิ.ย.68'!A14 -> ประถมศึกษาปีที่ 5
A3: ='รายงานจำนวนห้อง 10 มิ.ย.68'!A3:E3 -> ข้อมูล ณ วันที่ 10 มิถุนายน 2568
A4: ลำดับที่ | B4: เลขประจำตัว | C4: เลขประจำตัวประชาชน | D4: คำนำหน้า | E4: ชื่อ | F4: สกุล | G4: วันเดือนปีเกิด | H4: หมายเหตุ
B5: นักเรียน
A6: 1 | B6: 2010 | D6: เด็กชาย | E6: อภิวิชญ์ | F6: ซ้ายสุข
A7: 2 | B7: 2011 | D7: เด็กชาย | E7: พิรภพ | F7: ขวัญกุล
A8: 3 | B8: 2014 | D8: เด็กชาย | E8: ชัชพล | F8: ชัยขันธ์
A9: 4 | B9: 2042 | D9: เด็กหญิง | E9: ธนัชชา | F9: ปานะศรี
A10: 5 | B10: 2054 | D10: เด็กชาย | E10: ภาณุกฤษณ์ | F10: แก้วสิทธิ์
A11: 6 | B11: 2055 | D11: เด็กชาย | E11: ญาณวัฒน์ | F11: จุอ่อน
A12: 7 | B12: 2056 | D12: เด็กชาย | E12: ญาณากร | F12: พุทธพงษ์
A13: 8 | B13: 2058 | D13: เด็กชาย | E13: ยุทธิชัย | F13: พงศ์สุวรรณ
A14: 9 | B14: 2059 | D14: เด็กชาย | E14: ปิยพัฒร์ | F14: ณ นคร
A15: 10 | B15: 2060 | D15: เด็กชาย | E15: ณัฐพล | F15: ชำนาญเรือ
A16: 11 | B16: 2061 | D16: เด็กหญิง | E16: ณัฏฐธิดา | F16: เลขขำ
A17: 12 | B17: 2062 | D17: เด็กหญิง | E17: ภัทราวดี | F17: จวบยศ
... A34: 29 | B34: 2094 | D34: เด็กหญิง | E34: กฤตชญา | F34: แย้มยินดี
B36: ชาย | C36: =COUNTIF(D6:D34,D6) -> 19
B37: หญิง | C37: =COUNTIF(D6:D34,D16) -> 10
B38: รวม | C38: =SUM(C36:C37) -> 29

Sheet ป.6.1 
A1: =อ.3!A1 -> บัญชีรายชื่อนักเรียนโรงเรียนบ้านต้นยวน ภาคเรียนที่ 1 ประจำปีการศึกษา 2568
A2: ='รายงานจำนวนห้อง 10 มิ.ย.68'!A15 -> ประถมศึกษาปีที่ 6/1
A3: ='รายงานจำนวนห้อง 10 มิ.ย.68'!A3:E3 -> ข้อมูล ณ วันที่ 10 มิถุนายน 2568
A4: ลำดับที่ | B4: เลขประจำตัว | C4: เลขประจำตัวประชาชน | D4: คำนำหน้า | E4: ชื่อ | F4: สกุล | G4: วันเดือนปีเกิด | H4: หมายเหตุ
B5: นักเรียน
A6: 1 | B6: 1935 | D6: เด็กชาย | E6: วรโชติ | F6: แซ่อึ้ง
A7: 2 | B7: 1942 | D7: เด็กชาย | E7: ระพีภัทธ์ | F7: คงภักดี
A8: 3 | B8: 1943 | D8: เด็กชาย | E8: นิติพงษ์ | F8: ไตรฟื้น
A9: 4 | B9: 1964 | D9: เด็กชาย | E9: วัชรพงค์ | F9: แสนประเสริฐ
A10: 5 | B10: 1997 | D10: เด็กชาย | E10: ชนิตร์นันท์ | F10: บุญเมือง
A11: 6 | B11: 1999 | D11: เด็กชาย | E11: จิระพงศ์ | F11: ลิลา
A12: 7 | B12: 2005 | D12: เด็กหญิง | E12: กวินธิดา | F12: ทองเนียม
A13: 8 | B13: 2007 | D13: เด็กหญิง | E13: ภวิกา | F13: ทองแป้น
A14: 9 | B14: 2008 | D14: เด็กหญิง | E14: ณัฐธิดา | F14: ย้อยนวล
A15: 10 | B15: 2009 | D15: เด็กหญิง | E15: ณัฏฐณิชา | F15: ปูหู
A16: 11 | B16: 2015 | D16: เด็กชาย | E16: สุทธิศักดิ์ | F16: มูลษาโคตร์
A17: 12 | B17: 2016 | D17: เด็กชาย | E17: พีรพัฒน์ | F17: ชนะพจน์
... A27: 22 | B27: 2329 | D27: เด็กชาย | E27: กฤษฎา | F27: สร้อยรัก
B30: ชาย | C30: =COUNTIF(D6:D29,D6) -> 12
B31: หญิง | C31: =COUNTIF(D6:D29,D12) -> 10
B32: รวม | C32: =SUM(C30:C31) -> 22

Sheet ป.6.2
A1: =อ.3!A1 -> บัญชีรายชื่อนักเรียนโรงเรียนบ้านต้นยวน ภาคเรียนที่ 1 ประจำปีการศึกษา 2568
A2: ='รายงานจำนวนห้อง 10 มิ.ย.68'!A16 -> ประถมศึกษาปีที่ 6/2
A3: ='รายงานจำนวนห้อง 10 มิ.ย.68'!A3:E3 -> ข้อมูล ณ วันที่ 10 มิถุนายน 2568
A4: ลำดับที่ | B4: เลขประจำตัว | C4: เลขประจำตัวประชาชน | D4: คำนำหน้า | E4: ชื่อ | F4: สกุล | G4: วันเดือนปีเกิด | H4: หมายเหตุ
B5: นักเรียน
A6: 1 | B6: 1952 | D6: เด็กหญิง | E6: จรรยมณฑน์ | F6: พรหมทอง
A7: 2 | B7: 1960 | D7: เด็กชาย | E7: ภูวรินทร์ | F7: โพธิ์แก้ว
A8: 3 | B8: 1963 | D8: เด็กชาย | E8: อานนท์ | F8: ยางรัก
A9: 4 | B9: 1973 | D9: เด็กชาย | E9: วีรวิชญ์ | F9: อรุณรักษ์
A10: 5 | B10: 1974 | D10: เด็กชาย | E10: วิชญวีร์ | F10: อรุณรักษ์
A11: 6 | B11: 1996 | D11: เด็กชาย | E11: ภานุพงศ์ | F11: บุญริทธิ์
A12: 7 | B12: 2002 | D12: เด็กหญิง | E12: ปานิสา | F12: ธุรารัตน์
A13: 8 | B13: 2003 | D13: เด็กหญิง | E13: รชนีรมณ์ | F13: ม่วงศรี
A14: 9 | B14: 2004 | D14: เด็กหญิง | E14: สุชาดา | F14: บุญฤทธิ์
A15: 10 | B15: 2006 | D15: เด็กหญิง | E15: หฤทชญา | F15: ปาลดำ
A16: 11 | B16: 2013 | D16: เด็กหญิง | E16: รัตติยาภา | F16: แสงสวัสดิ์
A17: 12 | B17: 2020 | D17: เด็กชาย | E17: โสภนัฐ | F17: ยกแก้ว
... A25: 20 | B25: 1998 | D25: เด็กชาย | E25: อัครเดช | F25: เกตุขาว
B28: ชาย | C28: =COUNTIF(D6:D25,D25) -> 11
B29: หญิง | C29: =COUNTIF(D6:D25,D6) -> 9
B30: รวม | C30: =SUM(C28:C29) -> 20
